BEGIN:VCALENDAR
VERSION:2.0
PRODID:-//Shirin Shantala - ECPv6.2.8//NONSGML v1.0//EN
CALSCALE:GREGORIAN
METHOD:PUBLISH
X-WR-CALNAME:Shirin Shantala
X-ORIGINAL-URL:https://shirin-shantala.com
X-WR-CALDESC:Veranstaltungen für Shirin Shantala
REFRESH-INTERVAL;VALUE=DURATION:PT1H
X-Robots-Tag:noindex
X-PUBLISHED-TTL:PT1H
BEGIN:VTIMEZONE
TZID:UTC
BEGIN:STANDARD
TZOFFSETFROM:+0000
TZOFFSETTO:+0000
TZNAME:UTC
DTSTART:20260101T000000
END:STANDARD
END:VTIMEZONE
BEGIN:VEVENT
DTSTART;TZID=UTC:20260422T195000
DTEND;TZID=UTC:20260708T212000
DTSTAMP:20260422T014246
CREATED:20260301T102344Z
LAST-MODIFIED:20260301T102344Z
UID:992304-1776887400-1783545600@shirin-shantala.com
SUMMARY:Shantala Yoga Frühsommer 2026
DESCRIPTION:
URL:https://shirin-shantala.com/event/shantala-yoga-fruehsommer-2026/
END:VEVENT
END:VCALENDAR